BEGIN:VCALENDAR
VERSION:2.0
PRODID:-//Lebanon Public Library - ECPv6.15.18//NONSGML v1.0//EN
CALSCALE:GREGORIAN
METHOD:PUBLISH
X-WR-CALNAME:Lebanon Public Library
X-ORIGINAL-URL:https://leblib.org
X-WR-CALDESC:Events for Lebanon Public Library
REFRESH-INTERVAL;VALUE=DURATION:PT1H
X-Robots-Tag:noindex
X-PUBLISHED-TTL:PT1H
BEGIN:VTIMEZONE
TZID:America/Indiana/Indianapolis
BEGIN:DAYLIGHT
TZOFFSETFROM:-0500
TZOFFSETTO:-0400
TZNAME:EDT
DTSTART:20250309T070000
END:DAYLIGHT
BEGIN:STANDARD
TZOFFSETFROM:-0400
TZOFFSETTO:-0500
TZNAME:EST
DTSTART:20251102T060000
END:STANDARD
BEGIN:DAYLIGHT
TZOFFSETFROM:-0500
TZOFFSETTO:-0400
TZNAME:EDT
DTSTART:20260308T070000
END:DAYLIGHT
BEGIN:STANDARD
TZOFFSETFROM:-0400
TZOFFSETTO:-0500
TZNAME:EST
DTSTART:20261101T060000
END:STANDARD
BEGIN:DAYLIGHT
TZOFFSETFROM:-0500
TZOFFSETTO:-0400
TZNAME:EDT
DTSTART:20270314T070000
END:DAYLIGHT
BEGIN:STANDARD
TZOFFSETFROM:-0400
TZOFFSETTO:-0500
TZNAME:EST
DTSTART:20271107T060000
END:STANDARD
END:VTIMEZONE
BEGIN:VEVENT
DTSTART;VALUE=DATE:20260216
DTEND;VALUE=DATE:20260217
DTSTAMP:20260423T201450
CREATED:20260129T202618Z
LAST-MODIFIED:20260129T202618Z
UID:10006445-1771200000-1771286399@leblib.org
SUMMARY:TEEN Movie Monday
DESCRIPTION:Join us for a fun-filled night of showing different movies! Snacks and drinks will be provided. For grades 6th-12th.
URL:https://leblib.org/event/teen-movie-monday-5/
LOCATION:Teen Space
CATEGORIES:Teen Department
ORGANIZER;CN="social@leblib.org":MAILTO:social@leblib.org
END:VEVENT
BEGIN:VEVENT
DTSTART;TZID=America/Indiana/Indianapolis:20260218T170000
DTEND;TZID=America/Indiana/Indianapolis:20260218T180000
DTSTAMP:20260423T201450
CREATED:20260129T202845Z
LAST-MODIFIED:20260129T202845Z
UID:10006446-1771434000-1771437600@leblib.org
SUMMARY:TEEN Board Game Night
DESCRIPTION:Join us for an exciting night of different board games! For grades 6th-12th.
URL:https://leblib.org/event/teen-board-game-night/
LOCATION:Teen Space
CATEGORIES:Teen Department
ATTACH;FMTTYPE=application/pdf:https://leblib.org/wp-content/uploads/2026/01/Board-Game-Night.pdf
ORGANIZER;CN="social@leblib.org":MAILTO:social@leblib.org
END:VEVENT
END:VCALENDAR