BEGIN:VCALENDAR
VERSION:2.0
PRODID:-//Lebanon Public Library - ECPv6.15.18//NONSGML v1.0//EN
CALSCALE:GREGORIAN
METHOD:PUBLISH
X-ORIGINAL-URL:https://leblib.org
X-WR-CALDESC:Events for Lebanon Public Library
REFRESH-INTERVAL;VALUE=DURATION:PT1H
X-Robots-Tag:noindex
X-PUBLISHED-TTL:PT1H
BEGIN:VTIMEZONE
TZID:America/Indiana/Indianapolis
BEGIN:DAYLIGHT
TZOFFSETFROM:-0500
TZOFFSETTO:-0400
TZNAME:EDT
DTSTART:20250309T070000
END:DAYLIGHT
BEGIN:STANDARD
TZOFFSETFROM:-0400
TZOFFSETTO:-0500
TZNAME:EST
DTSTART:20251102T060000
END:STANDARD
BEGIN:DAYLIGHT
TZOFFSETFROM:-0500
TZOFFSETTO:-0400
TZNAME:EDT
DTSTART:20260308T070000
END:DAYLIGHT
BEGIN:STANDARD
TZOFFSETFROM:-0400
TZOFFSETTO:-0500
TZNAME:EST
DTSTART:20261101T060000
END:STANDARD
BEGIN:DAYLIGHT
TZOFFSETFROM:-0500
TZOFFSETTO:-0400
TZNAME:EDT
DTSTART:20270314T070000
END:DAYLIGHT
BEGIN:STANDARD
TZOFFSETFROM:-0400
TZOFFSETTO:-0500
TZNAME:EST
DTSTART:20271107T060000
END:STANDARD
END:VTIMEZONE
BEGIN:VEVENT
DTSTART;VALUE=DATE:20260202
DTEND;VALUE=DATE:20260203
DTSTAMP:20260424T000142
CREATED:20260129T200207Z
LAST-MODIFIED:20260129T200207Z
UID:10006441-1769990400-1770076799@leblib.org
SUMMARY:TEEN Movie Monday
DESCRIPTION:Join us for a fun-filled evening of watching different movies! Snacks and drinks will be provided for grades 6th-12th.
URL:https://leblib.org/event/teen-movie-monday-4/
LOCATION:Teen Space
CATEGORIES:Teen Department
ATTACH;FMTTYPE=application/pdf:https://leblib.org/wp-content/uploads/2026/01/Movie-Monday-1.pdf
ORGANIZER;CN="social@leblib.org":MAILTO:social@leblib.org
END:VEVENT
BEGIN:VEVENT
DTSTART;TZID=America/Indiana/Indianapolis:20260205T160000
DTEND;TZID=America/Indiana/Indianapolis:20260205T170000
DTSTAMP:20260424T000142
CREATED:20260129T200537Z
LAST-MODIFIED:20260129T200537Z
UID:10006442-1770307200-1770310800@leblib.org
SUMMARY:TEEN Paws & Destress
DESCRIPTION:Join us for a calming afternoon with relaxing crafts and a therapy dog\, Groban! For grades 6th-12th.
URL:https://leblib.org/event/teen-paws-destress-3/
LOCATION:Teen Space
CATEGORIES:Teen Department
ATTACH;FMTTYPE=application/pdf:https://leblib.org/wp-content/uploads/2026/01/Paws-Destress.pdf
ORGANIZER;CN="social@leblib.org":MAILTO:social@leblib.org
END:VEVENT
END:VCALENDAR