BEGIN:VCALENDAR
VERSION:2.0
PRODID:-//Lebanon Public Library - ECPv6.15.18//NONSGML v1.0//EN
CALSCALE:GREGORIAN
METHOD:PUBLISH
X-ORIGINAL-URL:https://leblib.org
X-WR-CALDESC:Events for Lebanon Public Library
REFRESH-INTERVAL;VALUE=DURATION:PT1H
X-Robots-Tag:noindex
X-PUBLISHED-TTL:PT1H
BEGIN:VTIMEZONE
TZID:America/Indiana/Indianapolis
BEGIN:DAYLIGHT
TZOFFSETFROM:-0500
TZOFFSETTO:-0400
TZNAME:EDT
DTSTART:20250309T070000
END:DAYLIGHT
BEGIN:STANDARD
TZOFFSETFROM:-0400
TZOFFSETTO:-0500
TZNAME:EST
DTSTART:20251102T060000
END:STANDARD
BEGIN:DAYLIGHT
TZOFFSETFROM:-0500
TZOFFSETTO:-0400
TZNAME:EDT
DTSTART:20260308T070000
END:DAYLIGHT
BEGIN:STANDARD
TZOFFSETFROM:-0400
TZOFFSETTO:-0500
TZNAME:EST
DTSTART:20261101T060000
END:STANDARD
BEGIN:DAYLIGHT
TZOFFSETFROM:-0500
TZOFFSETTO:-0400
TZNAME:EDT
DTSTART:20270314T070000
END:DAYLIGHT
BEGIN:STANDARD
TZOFFSETFROM:-0400
TZOFFSETTO:-0500
TZNAME:EST
DTSTART:20271107T060000
END:STANDARD
END:VTIMEZONE
BEGIN:VEVENT
DTSTART;VALUE=DATE:20260302
DTEND;VALUE=DATE:20260303
DTSTAMP:20260423T170046
CREATED:20260227T193421Z
LAST-MODIFIED:20260227T193421Z
UID:10006554-1772409600-1772495999@leblib.org
SUMMARY:TEEN Movie Monday
DESCRIPTION:Join us for a night filled with a variety of different movies. Snacks and drinks will be provided. For grades 6th-12th.
URL:https://leblib.org/event/teen-movie-monday-7/
LOCATION:Teen Space
CATEGORIES:Teen Department
ATTACH;FMTTYPE=application/pdf:https://leblib.org/wp-content/uploads/2026/02/Movie-Monday-2.pdf
ORGANIZER;CN="social@leblib.org":MAILTO:social@leblib.org
END:VEVENT
BEGIN:VEVENT
DTSTART;TZID=America/Indiana/Indianapolis:20260305T160000
DTEND;TZID=America/Indiana/Indianapolis:20260305T170000
DTSTAMP:20260423T170046
CREATED:20260227T193614Z
LAST-MODIFIED:20260227T193614Z
UID:10006555-1772726400-1772730000@leblib.org
SUMMARY:TEEN Paws & De-Stress
DESCRIPTION:Join us on the first Thursday of every month for a relaxing\, hands-on craft session in the company of Groban\, our gentle and lovable therapy dog. Teens can unwind\, get creative\, and enjoy the calming presence of a certified therapy animal while making a fun take‑home project! For grades 6th-12th.
URL:https://leblib.org/event/teen-paws-de-stress/
LOCATION:Teen Space
CATEGORIES:Teen Department
ATTACH;FMTTYPE=application/pdf:https://leblib.org/wp-content/uploads/2026/02/Paws-Destress.pdf
ORGANIZER;CN="social@leblib.org":MAILTO:social@leblib.org
END:VEVENT
BEGIN:VEVENT
DTSTART;TZID=America/Indiana/Indianapolis:20260310T173000
DTEND;TZID=America/Indiana/Indianapolis:20260310T183000
DTSTAMP:20260423T170046
CREATED:20260227T194757Z
LAST-MODIFIED:20260227T194757Z
UID:10006559-1773163800-1773167400@leblib.org
SUMMARY:TEEN Shrinky Dinks
DESCRIPTION:Join us in creating your very own charms for key chains or jewelry. For grades 6th-12th.
URL:https://leblib.org/event/teen-shrinky-dinks-2/
LOCATION:Teen Space
CATEGORIES:Teen Department
ATTACH;FMTTYPE=application/pdf:https://leblib.org/wp-content/uploads/2026/02/Shrinky-Dinks-1.pdf
ORGANIZER;CN="social@leblib.org":MAILTO:social@leblib.org
END:VEVENT
BEGIN:VEVENT
DTSTART;TZID=America/Indiana/Indianapolis:20260311T170000
DTEND;TZID=America/Indiana/Indianapolis:20260311T180000
DTSTAMP:20260423T170046
CREATED:20260227T193842Z
LAST-MODIFIED:20260227T193842Z
UID:10006556-1773248400-1773252000@leblib.org
SUMMARY:TEEN Origami Night
DESCRIPTION:Join us in creating different types of origami\, a type of paper folding craft! For grades 6th-12th.
URL:https://leblib.org/event/teen-origami-night/
LOCATION:Teen Space
CATEGORIES:Teen Department
ATTACH;FMTTYPE=application/pdf:https://leblib.org/wp-content/uploads/2026/02/Origami-Night.pdf
ORGANIZER;CN="social@leblib.org":MAILTO:social@leblib.org
END:VEVENT
BEGIN:VEVENT
DTSTART;TZID=America/Indiana/Indianapolis:20260320T150000
DTEND;TZID=America/Indiana/Indianapolis:20260320T170000
DTSTAMP:20260423T170046
CREATED:20260227T194110Z
LAST-MODIFIED:20260227T194110Z
UID:10006557-1774018800-1774026000@leblib.org
SUMMARY:TEEN Book to Movie Club
DESCRIPTION:Book to Movie Club is back! Read our selected book of the month and join us for a book discussion and to watch the movie! Snacks are provided. For grades 6th-12th.
URL:https://leblib.org/event/teen-book-to-movie-club/
LOCATION:Teen Space
CATEGORIES:Teen Department
ATTACH;FMTTYPE=application/pdf:https://leblib.org/wp-content/uploads/2026/02/Book-to-Movie.pdf
ORGANIZER;CN="social@leblib.org":MAILTO:social@leblib.org
END:VEVENT
BEGIN:VEVENT
DTSTART;VALUE=DATE:20260323
DTEND;VALUE=DATE:20260324
DTSTAMP:20260423T170046
CREATED:20260227T194325Z
LAST-MODIFIED:20260227T194325Z
UID:10006558-1774224000-1774310399@leblib.org
SUMMARY:TEEN Movie Monday
DESCRIPTION:Join us for a fun night filled with a variety of different movies. Snacks and drinks will be provided. For grades 6th-12th.
URL:https://leblib.org/event/teen-movie-monday-8/
LOCATION:Teen Space
CATEGORIES:Teen Department
ATTACH;FMTTYPE=application/pdf:https://leblib.org/wp-content/uploads/2026/02/Movie-Monday-2-1.pdf
ORGANIZER;CN="social@leblib.org":MAILTO:social@leblib.org
END:VEVENT
END:VCALENDAR