BEGIN:VCALENDAR
VERSION:2.0
PRODID:-//Lebanon Public Library - ECPv6.15.18//NONSGML v1.0//EN
CALSCALE:GREGORIAN
METHOD:PUBLISH
X-ORIGINAL-URL:https://leblib.org
X-WR-CALDESC:Events for Lebanon Public Library
REFRESH-INTERVAL;VALUE=DURATION:PT1H
X-Robots-Tag:noindex
X-PUBLISHED-TTL:PT1H
BEGIN:VTIMEZONE
TZID:America/Indiana/Indianapolis
BEGIN:DAYLIGHT
TZOFFSETFROM:-0500
TZOFFSETTO:-0400
TZNAME:EDT
DTSTART:20250309T070000
END:DAYLIGHT
BEGIN:STANDARD
TZOFFSETFROM:-0400
TZOFFSETTO:-0500
TZNAME:EST
DTSTART:20251102T060000
END:STANDARD
BEGIN:DAYLIGHT
TZOFFSETFROM:-0500
TZOFFSETTO:-0400
TZNAME:EDT
DTSTART:20260308T070000
END:DAYLIGHT
BEGIN:STANDARD
TZOFFSETFROM:-0400
TZOFFSETTO:-0500
TZNAME:EST
DTSTART:20261101T060000
END:STANDARD
BEGIN:DAYLIGHT
TZOFFSETFROM:-0500
TZOFFSETTO:-0400
TZNAME:EDT
DTSTART:20270314T070000
END:DAYLIGHT
BEGIN:STANDARD
TZOFFSETFROM:-0400
TZOFFSETTO:-0500
TZNAME:EST
DTSTART:20271107T060000
END:STANDARD
END:VTIMEZONE
BEGIN:VEVENT
DTSTART;TZID=America/Indiana/Indianapolis:20260514T130000
DTEND;TZID=America/Indiana/Indianapolis:20260514T143000
DTSTAMP:20260424T063820
CREATED:20260423T144023Z
LAST-MODIFIED:20260423T144023Z
UID:10006642-1778763600-1778769000@leblib.org
SUMMARY:Americana DIY Program
DESCRIPTION:Get ready for the summer patriotic holidays with a refresh on your decor!  You may choose either a placemat door hanger or a patriotic gnome. This program is for adults (18+). \nRegistration is required. \n\n\n                \n                        \n                            Americana DIY Program\n                             \n                        \n                        Contact DetailsName(Required)\n                            \n                            \n                                                    First\n                                                    \n                                                \n                            \n                            \n                                                            Last\n                                                            \n                                                        \n                            \n                        Email(Required)\n                                \n                                    Enter Email\n                                    \n                                \n                                \n                                    Confirm Email\n                                    \n                                \n                                \n                            PhoneHow did you hear about this program?Social MediaLibrary WebsiteLibrary CalendarRefer a FriendWord of MouthOther
URL:https://leblib.org/event/americana-diy-program/
LOCATION:Medium Meeting Room (top floor)
CATEGORIES:Adult Department
ATTACH;FMTTYPE=image/png:https://leblib.org/wp-content/uploads/2026/04/Americana-Decor.png
ORGANIZER;CN="social@leblib.org":MAILTO:social@leblib.org
END:VEVENT
END:VCALENDAR